BEGIN:VCALENDAR
VERSION:2.0
PRODID:-//Plone.org//NONSGML plone.app.event//EN
X-WR-TIMEZONE:Europe/Berlin
BEGIN:VEVENT
SUMMARY:Der Versteckte Arbeitsmarkt
DTSTART;TZID=Europe/Berlin:20211119T140000
DTEND;TZID=Europe/Berlin:20211119T180000
DTSTAMP:20260422T075122Z
UID:a051ebcd42354a4bbe84071374410406@www.uni-marburg.de
CREATED:20211104T072401Z
DESCRIPTION:https://www.uni-marburg.de/de/international/news-international
 /termine/2021/der-versteckte-arbeitsmarkt\n
LAST-MODIFIED:20250905T085920Z
LOCATION:online via BigBlueButton
URL:https://www.uni-marburg.de/de/international/news-international/termine
 /2021/der-versteckte-arbeitsmarkt
END:VEVENT
BEGIN:VTIMEZONE
TZID:Europe/Berlin
X-LIC-LOCATION:Europe/Berlin
BEGIN:STANDARD
DTSTART:20211031T020000
TZNAME:CET
TZOFFSETFROM:+0200
TZOFFSETTO:+0100
END:STANDARD
END:VTIMEZONE
END:VCALENDAR
