BEGIN:VCALENDAR
VERSION:2.0
PRODID:-//Plone.org//NONSGML plone.app.event//EN
X-WR-TIMEZONE:Europe/Berlin
BEGIN:VEVENT
SUMMARY:Die Digitale Bewerbung
DTSTART;TZID=Europe/Berlin:20211214T160000
DTEND;TZID=Europe/Berlin:20211214T180000
DTSTAMP:20260420T222354Z
UID:f0bdc9b5702d47188ed9dc10059d5d69@www.uni-marburg.de
CREATED:20211104T073435Z
DESCRIPTION:https://www.uni-marburg.de/de/international/news-international
 /termine/2021/die-digitale-bewerbung\n
LAST-MODIFIED:20250905T085903Z
LOCATION:online via BigBlueButton
URL:https://www.uni-marburg.de/de/international/news-international/termine
 /2021/die-digitale-bewerbung
END:VEVENT
BEGIN:VTIMEZONE
TZID:Europe/Berlin
X-LIC-LOCATION:Europe/Berlin
BEGIN:STANDARD
DTSTART:20211031T020000
TZNAME:CET
TZOFFSETFROM:+0200
TZOFFSETTO:+0100
END:STANDARD
END:VTIMEZONE
END:VCALENDAR
