BEGIN:VCALENDAR
VERSION:2.0
PRODID:-//Plone.org//NONSGML plone.app.event//EN
X-WR-TIMEZONE:Europe/Berlin
BEGIN:VEVENT
SUMMARY:Infoveranstaltung: Studium im außereuropäischen Ausland: Unsere 
 Partneruniversität\, die Marquette University stellt sich vor
DTSTART;TZID=Europe/Berlin:20210706T150000
DTSTAMP:20260425T192253Z
UID:9005e525dfcb41b39aa449acf6274014@www.uni-marburg.de
CREATED:20210702T073241Z
DESCRIPTION:https://www.uni-marburg.de/de/international/news-international
 /termine/2021/infoveranstaltung-studium-im-aussereuropaeischen-ausland\n
LAST-MODIFIED:20250905T085907Z
LOCATION:https://webconf.hrz.uni-marburg.de/c/mar-rv3-50l-nya
URL:https://www.uni-marburg.de/de/international/news-international/termine
 /2021/infoveranstaltung-studium-im-aussereuropaeischen-ausland
END:VEVENT
BEGIN:VTIMEZONE
TZID:Europe/Berlin
X-LIC-LOCATION:Europe/Berlin
BEGIN:DAYLIGHT
DTSTART:20210328T030000
TZNAME:CEST
TZOFFSETFROM:+0100
TZOFFSETTO:+0200
END:DAYLIGHT
END:VTIMEZONE
END:VCALENDAR
