BEGIN:VCALENDAR
VERSION:2.0
PRODID:-//Plone.org//NONSGML plone.app.event//EN
X-WR-TIMEZONE:Europe/Berlin
BEGIN:VEVENT
SUMMARY:Stellenausschreibung SHK
DTSTART;VALUE=DATE:20210203
DTEND;VALUE=DATE:20210204
DTSTAMP:20260424T112541Z
UID:0c860198d5104f64a8550985f41352a0@www.uni-marburg.de
CREATED:20210120T095650Z
DESCRIPTION:https://www.uni-marburg.de/de/international/news-international
 /termine/2021/stellenausschreibung-shk\n
LAST-MODIFIED:20250905T085909Z
LOCATION:Marburg International Office
URL:https://www.uni-marburg.de/de/international/news-international/termine
 /2021/stellenausschreibung-shk
END:VEVENT
END:VCALENDAR
