BEGIN:VCALENDAR
VERSION:2.0
PRODID:-//Plone.org//NONSGML plone.app.event//EN
X-WR-TIMEZONE:Europe/Berlin
BEGIN:VEVENT
SUMMARY:Studieren weltweit - die virtuelle Messe
DTSTART;TZID=Europe/Berlin:20210326T130000
DTEND;TZID=Europe/Berlin:20210326T163000
DTSTAMP:20260421T215916Z
UID:a18a232752f54defade9805ae7105ef8@www.uni-marburg.de
CREATED:20210326T080811Z
DESCRIPTION:https://www.uni-marburg.de/de/international/news-international
 /termine/2021/studieren-weltweit-die-virtuelle-messe\n
LAST-MODIFIED:20250905T085909Z
LOCATION:online
URL:https://www.uni-marburg.de/de/international/news-international/termine
 /2021/studieren-weltweit-die-virtuelle-messe
END:VEVENT
BEGIN:VTIMEZONE
TZID:Europe/Berlin
X-LIC-LOCATION:Europe/Berlin
BEGIN:STANDARD
DTSTART:20201025T020000
TZNAME:CET
TZOFFSETFROM:+0200
TZOFFSETTO:+0100
END:STANDARD
END:VTIMEZONE
END:VCALENDAR
