BEGIN:VCALENDAR
VERSION:2.0
PRODID:-//Plone.org//NONSGML plone.app.event//EN
X-WR-TIMEZONE:Europe/Berlin
BEGIN:VEVENT
SUMMARY:Was kommt nach dem Studium?
DTSTART;TZID=Europe/Berlin:20210616T140000
DTEND;TZID=Europe/Berlin:20210616T160000
DTSTAMP:20260424T022651Z
UID:8e802a8b3a3146f38b42095d9163c298@www.uni-marburg.de
CREATED:20210415T071458Z
DESCRIPTION:https://www.uni-marburg.de/de/international/news-international
 /termine/2021/was-kommt-nach-dem-studium-1\n
LAST-MODIFIED:20250905T085913Z
LOCATION:online
URL:https://www.uni-marburg.de/de/international/news-international/termine
 /2021/was-kommt-nach-dem-studium-1
END:VEVENT
BEGIN:VTIMEZONE
TZID:Europe/Berlin
X-LIC-LOCATION:Europe/Berlin
BEGIN:DAYLIGHT
DTSTART:20210328T030000
TZNAME:CEST
TZOFFSETFROM:+0100
TZOFFSETTO:+0200
END:DAYLIGHT
END:VTIMEZONE
END:VCALENDAR
