BEGIN:VCALENDAR
VERSION:2.0
PRODID:-//Plone.org//NONSGML plone.app.event//EN
X-WR-TIMEZONE:Europe/Berlin
BEGIN:VEVENT
SUMMARY:Was kommt nach dem Studium (B.A.\, M.A.)?
DTSTART;TZID=Europe/Berlin:20211202T150000
DTEND;TZID=Europe/Berlin:20211202T170000
DTSTAMP:20260424T053546Z
UID:bcea0ff6c5ed4dc28822e3bcfbd8dff3@www.uni-marburg.de
CREATED:20211104T072615Z
DESCRIPTION:https://www.uni-marburg.de/de/international/news-international
 /termine/2021/was-kommt-nach-dem-studium-b-a-m-a\n
LAST-MODIFIED:20250905T085918Z
LOCATION:online via BigBlueButton
URL:https://www.uni-marburg.de/de/international/news-international/termine
 /2021/was-kommt-nach-dem-studium-b-a-m-a
END:VEVENT
BEGIN:VTIMEZONE
TZID:Europe/Berlin
X-LIC-LOCATION:Europe/Berlin
BEGIN:STANDARD
DTSTART:20211031T020000
TZNAME:CET
TZOFFSETFROM:+0200
TZOFFSETTO:+0100
END:STANDARD
END:VTIMEZONE
END:VCALENDAR
