BEGIN:VCALENDAR
VERSION:2.0
PRODID:-//Plone.org//NONSGML plone.app.event//EN
X-WR-TIMEZONE:Europe/Berlin
BEGIN:VEVENT
SUMMARY:Was kommt nach dem Studium? B.Sc./M.Sc.
DTSTART;TZID=Europe/Berlin:20211209T150000
DTEND;TZID=Europe/Berlin:20211209T170000
DTSTAMP:20260424T064321Z
UID:fbbf1b04cfdf444bb4f0b868159c6ab4@www.uni-marburg.de
CREATED:20211104T073050Z
DESCRIPTION:https://www.uni-marburg.de/de/international/news-international
 /termine/2021/was-kommt-nach-dem-studium-b-sc-m-sc\n
LAST-MODIFIED:20250905T085859Z
LOCATION:online via BigBlueButton
URL:https://www.uni-marburg.de/de/international/news-international/termine
 /2021/was-kommt-nach-dem-studium-b-sc-m-sc
END:VEVENT
BEGIN:VTIMEZONE
TZID:Europe/Berlin
X-LIC-LOCATION:Europe/Berlin
BEGIN:STANDARD
DTSTART:20211031T020000
TZNAME:CET
TZOFFSETFROM:+0200
TZOFFSETTO:+0100
END:STANDARD
END:VTIMEZONE
END:VCALENDAR
