BEGIN:VCALENDAR
VERSION:2.0
PRODID:-//Plone.org//NONSGML plone.app.event//EN
X-WR-TIMEZONE:Europe/Berlin
BEGIN:VEVENT
SUMMARY:Bewerbungstraining
DTSTART;TZID=Europe/Berlin:20220518T130000
DTEND;TZID=Europe/Berlin:20220518T163000
DTSTAMP:20260425T182707Z
UID:618b78077e1048f3bf080120d8f9c6cb@www.uni-marburg.de
CREATED:20220427T121344Z
DESCRIPTION:https://www.uni-marburg.de/de/international/news-international
 /termine/2022/bewerbungstraining-2\n
LAST-MODIFIED:20250905T090455Z
LOCATION:Deutschhausstraße 11+13\, Seminarraum +1/0010
URL:https://www.uni-marburg.de/de/international/news-international/termine
 /2022/bewerbungstraining-2
END:VEVENT
BEGIN:VTIMEZONE
TZID:Europe/Berlin
X-LIC-LOCATION:Europe/Berlin
BEGIN:DAYLIGHT
DTSTART:20220327T030000
TZNAME:CEST
TZOFFSETFROM:+0100
TZOFFSETTO:+0200
END:DAYLIGHT
END:VTIMEZONE
END:VCALENDAR
