BEGIN:VCALENDAR
VERSION:2.0
PRODID:-//Plone.org//NONSGML plone.app.event//EN
X-WR-TIMEZONE:Europe/Berlin
BEGIN:VEVENT
SUMMARY:BIPoC* Stammtisch der Antidiskriminierungsstelle
DTSTART;TZID=Europe/Berlin:20220525T130000
DTEND;TZID=Europe/Berlin:20220525T143000
DTSTAMP:20260425T214612Z
UID:72813cc0620f40789057d74af5a84b63@www.uni-marburg.de
RRULE:FREQ=MONTHLY;COUNT=3;BYDAY=+4WE
RDATE;TZID=Europe/Berlin:20220629T130000,20220727T130000
EXDATE;TZID=Europe/Berlin:20220526T130000,20220527T130000,20220528T130000,
 20220529T130000,20220530T130000,20220531T130000,20220622T130000
CREATED:20220506T120149Z
DESCRIPTION:https://www.uni-marburg.de/de/international/news-international
 /termine/2022/bipoc-stammtisch-der-antidiskriminierungsstelle\n
LAST-MODIFIED:20250905T090451Z
LOCATION:Erlenring 5\, Außenbereich vor der Mensa
URL:https://www.uni-marburg.de/de/international/news-international/termine
 /2022/bipoc-stammtisch-der-antidiskriminierungsstelle
END:VEVENT
BEGIN:VTIMEZONE
TZID:Europe/Berlin
X-LIC-LOCATION:Europe/Berlin
BEGIN:DAYLIGHT
DTSTART:20220327T030000
TZNAME:CEST
TZOFFSETFROM:+0100
TZOFFSETTO:+0200
END:DAYLIGHT
END:VTIMEZONE
END:VCALENDAR
