BEGIN:VCALENDAR
VERSION:2.0
PRODID:-//Plone.org//NONSGML plone.app.event//EN
X-WR-TIMEZONE:Europe/Berlin
BEGIN:VEVENT
SUMMARY:Community Engagement Workshop
DTSTART;TZID=Europe/Berlin:20220524T163000
DTEND;TZID=Europe/Berlin:20220524T190000
DTSTAMP:20260425T135918Z
UID:cd3330d23224406ba340e37a456acd55@www.uni-marburg.de
ATTENDEE;CN="Neues lernen, etwas Sinnvolles tun und Teil einer Gruppe sein
 : Ein ehrenamtliches Engagement ist vieles, nur nicht langweilig! Doch wel
 che Vorteile hat ein Ehrenamt und wieviel Zeit benötigt man dafür? Wo ka
 nn man sich in Marburg engagieren und wer sind die Ansprechpartner*innen? 
 Die Freiwilligenagentur Marburg Biedenkopf e.V. stellt verschiedene Initia
 tiven vor und beantwortet alle Fragen rund um Engagement und Ehrenamt.";RO
 LE=REQ-PARTICIPANT:Neues lernen, etwas Sinnvolles tun und Teil einer Grupp
 e sein: Ein ehrenamtliches Engagement ist vieles, nur nicht langweilig! Do
 ch welche Vorteile hat ein Ehrenamt und wieviel Zeit benötigt man dafür?
  Wo kann man sich in Marburg engagieren und wer sind die Ansprechpartner*i
 nnen? Die Freiwilligenagentur Marburg Biedenkopf e.V. stellt verschiedene 
 Initiativen vor und beantwortet alle Fragen rund um Engagement und Ehrenam
 t.
ATTENDEE;CN=;ROLE=REQ-PARTICIPANT:
ATTENDEE;CN="Hybride Veranstaltung: Teilnahme über BigBlueButton oder in 
 Präsenz";ROLE=REQ-PARTICIPANT:Hybride Veranstaltung: Teilnahme über BigB
 lueButton oder in Präsenz
ATTENDEE;CN="Anmeldung: https://ilias.uni-marburg.de/goto.php?target=svy_2
 782053&client_id=UNIMR";ROLE=REQ-PARTICIPANT:Anmeldung: https://ilias.uni-
 marburg.de/goto.php?target=svy_2782053&client_id=UNIMR
CREATED:20220427T122929Z
DESCRIPTION:https://www.uni-marburg.de/de/international/news-international
 /termine/2022/community-engagement-workshop-1\n
LAST-MODIFIED:20250905T090455Z
LOCATION:Deutschhausstraße 11+13\, Seminarraum +1/0010
URL:https://www.uni-marburg.de/de/international/news-international/termine
 /2022/community-engagement-workshop-1
END:VEVENT
BEGIN:VTIMEZONE
TZID:Europe/Berlin
X-LIC-LOCATION:Europe/Berlin
BEGIN:DAYLIGHT
DTSTART:20220327T030000
TZNAME:CEST
TZOFFSETFROM:+0100
TZOFFSETTO:+0200
END:DAYLIGHT
END:VTIMEZONE
END:VCALENDAR
