BEGIN:VCALENDAR
VERSION:2.0
PRODID:-//Plone.org//NONSGML plone.app.event//EN
X-WR-TIMEZONE:Europe/Berlin
BEGIN:VEVENT
SUMMARY:Infoveranstaltung für ukrainische Studieninteressierte
DTSTART;TZID=Europe/Berlin:20220623T150000
DTEND;TZID=Europe/Berlin:20220623T160000
DTSTAMP:20260425T204454Z
UID:5ba802fcce274cccaa601439fe542242@www.uni-marburg.de
CREATED:20220614T112833Z
DESCRIPTION:https://www.uni-marburg.de/de/international/news-international
 /termine/2022/infoveranstaltung-fuer-ukrainische-studieninteressierte\n
LAST-MODIFIED:20250905T090448Z
LOCATION:Online (BigBlueButton)
URL:https://www.uni-marburg.de/de/international/news-international/termine
 /2022/infoveranstaltung-fuer-ukrainische-studieninteressierte
END:VEVENT
BEGIN:VTIMEZONE
TZID:Europe/Berlin
X-LIC-LOCATION:Europe/Berlin
BEGIN:DAYLIGHT
DTSTART:20220327T030000
TZNAME:CEST
TZOFFSETFROM:+0100
TZOFFSETTO:+0200
END:DAYLIGHT
END:VTIMEZONE
END:VCALENDAR
