BEGIN:VCALENDAR
VERSION:2.0
PRODID:-//Plone.org//NONSGML plone.app.event//EN
X-WR-TIMEZONE:Europe/Berlin
BEGIN:VEVENT
SUMMARY:Interkulturelles Training
DTSTART;TZID=Europe/Berlin:20220520T140000
DTEND;TZID=Europe/Berlin:20220520T183000
DTSTAMP:20260425T215833Z
UID:99f51eaee9a8421aa8b291f8d5b8c4ef@www.uni-marburg.de
CREATED:20220427T122041Z
DESCRIPTION:https://www.uni-marburg.de/de/international/news-international
 /termine/2022/interkulturelles-training-1\n
LAST-MODIFIED:20250905T090456Z
LOCATION:Deutschhausstraße 11+13\, Seminarraum +1/0010
URL:https://www.uni-marburg.de/de/international/news-international/termine
 /2022/interkulturelles-training-1
END:VEVENT
BEGIN:VTIMEZONE
TZID:Europe/Berlin
X-LIC-LOCATION:Europe/Berlin
BEGIN:DAYLIGHT
DTSTART:20220327T030000
TZNAME:CEST
TZOFFSETFROM:+0100
TZOFFSETTO:+0200
END:DAYLIGHT
END:VTIMEZONE
END:VCALENDAR
