BEGIN:VCALENDAR
VERSION:2.0
PRODID:-//Plone.org//NONSGML plone.app.event//EN
X-WR-TIMEZONE:Europe/Berlin
BEGIN:VEVENT
SUMMARY:Networking Event Neuroscience
DTSTART;TZID=Europe/Berlin:20220714T090000
DTEND;TZID=Europe/Berlin:20220714T180000
DTSTAMP:20260425T225601Z
UID:da5eb56b098d4ec89670b58a3eda2b48@www.uni-marburg.de
CREATED:20220706T153900Z
DESCRIPTION:https://www.uni-marburg.de/de/international/news-international
 /termine/2022/networking-event-neuroscience\n
LAST-MODIFIED:20250905T090453Z
LOCATION:Deutscher Sprachatlas\, Pilgrimstein\, 35037 Marburg
URL:https://www.uni-marburg.de/de/international/news-international/termine
 /2022/networking-event-neuroscience
END:VEVENT
BEGIN:VTIMEZONE
TZID:Europe/Berlin
X-LIC-LOCATION:Europe/Berlin
BEGIN:DAYLIGHT
DTSTART:20220327T030000
TZNAME:CEST
TZOFFSETFROM:+0100
TZOFFSETTO:+0200
END:DAYLIGHT
END:VTIMEZONE
END:VCALENDAR
