BEGIN:VCALENDAR
VERSION:2.0
PRODID:-//Plone.org//NONSGML plone.app.event//EN
X-WR-TIMEZONE:Europe/Berlin
BEGIN:VEVENT
SUMMARY:Newcomers Day Mittelhessen @Home
DTSTART;TZID=Europe/Berlin:20221219T170000
DTSTAMP:20260425T002548Z
UID:a556583c134e42f78828fef2c207e811@www.uni-marburg.de
CREATED:20220607T102656Z
DESCRIPTION:https://www.uni-marburg.de/de/international/news-international
 /termine/2022/newcomers-day\n
LAST-MODIFIED:20250905T090449Z
LOCATION:Online
URL:https://www.uni-marburg.de/de/international/news-international/termine
 /2022/newcomers-day
END:VEVENT
BEGIN:VTIMEZONE
TZID:Europe/Berlin
X-LIC-LOCATION:Europe/Berlin
BEGIN:STANDARD
DTSTART:20221030T020000
TZNAME:CET
TZOFFSETFROM:+0200
TZOFFSETTO:+0100
END:STANDARD
END:VTIMEZONE
END:VCALENDAR
