BEGIN:VCALENDAR
VERSION:2.0
PRODID:-//Plone.org//NONSGML plone.app.event//EN
X-WR-TIMEZONE:Europe/Berlin
BEGIN:VEVENT
SUMMARY:Studium und Praktikum im Ausland
DTSTART;TZID=Europe/Berlin:20221110T160000
DTEND;TZID=Europe/Berlin:20221110T170000
DTSTAMP:20260425T000602Z
UID:18bddfb02f6b45bd875fba495d940f93@www.uni-marburg.de
CREATED:20221107T140007Z
DESCRIPTION:https://www.uni-marburg.de/de/international/news-international
 /termine/2022/studium-und-praktikum-im-ausland\n
LAST-MODIFIED:20250905T090452Z
LOCATION:Online
URL:https://www.uni-marburg.de/de/international/news-international/termine
 /2022/studium-und-praktikum-im-ausland
END:VEVENT
BEGIN:VTIMEZONE
TZID:Europe/Berlin
X-LIC-LOCATION:Europe/Berlin
BEGIN:STANDARD
DTSTART:20221030T020000
TZNAME:CET
TZOFFSETFROM:+0200
TZOFFSETTO:+0100
END:STANDARD
END:VTIMEZONE
END:VCALENDAR
