BEGIN:VCALENDAR
VERSION:2.0
PRODID:-//Plone.org//NONSGML plone.app.event//EN
X-WR-TIMEZONE:Europe/Berlin
BEGIN:VEVENT
SUMMARY:Study Abroad Fair 2022
DTSTART;TZID=Europe/Berlin:20221019T160000
DTEND;TZID=Europe/Berlin:20221019T193000
DTSTAMP:20260425T182644Z
UID:780e916d601744668c0ed97f6bf1644d@www.uni-marburg.de
CREATED:20220824T100304Z
DESCRIPTION:https://www.uni-marburg.de/de/international/news-international
 /termine/2022/study-abroad-fair-2022\n
LAST-MODIFIED:20250905T090447Z
LOCATION:Hörsaalgebäude\, Biegenstraße 14
URL:https://www.uni-marburg.de/de/international/news-international/termine
 /2022/study-abroad-fair-2022
END:VEVENT
BEGIN:VTIMEZONE
TZID:Europe/Berlin
X-LIC-LOCATION:Europe/Berlin
BEGIN:DAYLIGHT
DTSTART:20220327T030000
TZNAME:CEST
TZOFFSETFROM:+0100
TZOFFSETTO:+0200
END:DAYLIGHT
END:VTIMEZONE
END:VCALENDAR
