BEGIN:VCALENDAR
VERSION:2.0
PRODID:-//Plone.org//NONSGML plone.app.event//EN
X-WR-TIMEZONE:Europe/Berlin
BEGIN:VEVENT
SUMMARY:HessenFonds-Stipendien
DTSTART;VALUE=DATE:20230721
DTEND;VALUE=DATE:20230722
DTSTAMP:20260426T000226Z
UID:132e0da59e5e47458e854ffcdfc97977@www.uni-marburg.de
CREATED:20191025T134835Z
DESCRIPTION:https://www.uni-marburg.de/de/international/news-international
 /termine/2022/termine-2022/hessen-fonds/hessenfonds-stipendien\n
LAST-MODIFIED:20250905T090452Z
LOCATION:Bewerbung beim Dez. VI – Internationale Angelegenheiten und Fam
 ilienservice
URL:https://www.uni-marburg.de/de/international/news-international/termine
 /2022/termine-2022/hessen-fonds/hessenfonds-stipendien
END:VEVENT
END:VCALENDAR
