BEGIN:VCALENDAR
VERSION:2.0
PRODID:-//Plone.org//NONSGML plone.app.event//EN
X-WR-TIMEZONE:Europe/Berlin
BEGIN:VEVENT
SUMMARY:Newcomers Day Mittelhessen @ Weilburg
DTSTART;TZID=Europe/Berlin:20240605T160000
DTSTAMP:20260424T124014Z
UID:a8e8d11eedf449ebb08f2a3dbfb0a168@www.uni-marburg.de
CREATED:20240503T104914Z
DESCRIPTION:https://www.uni-marburg.de/de/international/news-international
 /termine/2024/newcomers-day-mittelhessen-weilburg\n
LAST-MODIFIED:20250905T092814Z
LOCATION:Schloss Weilburg\, Schloßplatz 3\, Weilburg
URL:https://www.uni-marburg.de/de/international/news-international/termine
 /2024/newcomers-day-mittelhessen-weilburg
END:VEVENT
BEGIN:VTIMEZONE
TZID:Europe/Berlin
X-LIC-LOCATION:Europe/Berlin
BEGIN:DAYLIGHT
DTSTART:20240331T030000
TZNAME:CEST
TZOFFSETFROM:+0100
TZOFFSETTO:+0200
END:DAYLIGHT
END:VTIMEZONE
END:VCALENDAR
