BEGIN:VCALENDAR
VERSION:2.0
PRODID:-//Plone.org//NONSGML plone.app.event//EN
X-WR-TIMEZONE:Europe/Berlin
BEGIN:VEVENT
SUMMARY:Stress Less: Effective Tools for a Balanced University Life
DTSTART;TZID=Europe/Berlin:20250120T161500
DTEND;TZID=Europe/Berlin:20250120T184500
DTSTAMP:20260421T100423Z
UID:7bf6ffeda2d640808aaf99168f4ebc71@www.uni-marburg.de
CREATED:20240715T141754Z
DESCRIPTION:https://www.uni-marburg.de/de/international/news-international
 /termine/2024/stress-less-effective-tools-for-a-balanced-university-life\n
 englischer Online Workshop für Degree Seeker
LAST-MODIFIED:20250905T092808Z
LOCATION:online
URL:https://www.uni-marburg.de/de/international/news-international/termine
 /2024/stress-less-effective-tools-for-a-balanced-university-life
END:VEVENT
BEGIN:VTIMEZONE
TZID:Europe/Berlin
X-LIC-LOCATION:Europe/Berlin
BEGIN:STANDARD
DTSTART:20241027T020000
TZNAME:CET
TZOFFSETFROM:+0200
TZOFFSETTO:+0100
END:STANDARD
END:VTIMEZONE
END:VCALENDAR
