BEGIN:VCALENDAR
VERSION:2.0
PRODID:-//Plone.org//NONSGML plone.app.event//EN
X-WR-TIMEZONE:Europe/Berlin
BEGIN:VEVENT
SUMMARY:2025 Application Deadline: HUST International Summer School on Chi
 nese Language + Metaverse
DTSTART;VALUE=DATE:20250311
DTEND;VALUE=DATE:20250316
DTSTAMP:20260425T040123Z
UID:da040bbcf228410dbaf9eb5f5a52e023@www.uni-marburg.de
CREATED:20250311T143455Z
DESCRIPTION:https://www.uni-marburg.de/de/international/news-international
 /termine/2025/2025-application-deadline-hust-international-summer-school-o
 n-chinese-language-metaverse-100-english-speaking-program\nThis project ai
 ms to introduce the development of China's research and application in the
  metaverse feld\, providing opportunities for students from overseas to un
 derstand this area. By visiting electronic information\, communication tec
 hnology\, and artificial intelligence-related research institutions and en
 terprises in the Wuhan area\, students will have the opportunity to gain i
 n-depth insights into China's innovation and development in these fields.
LAST-MODIFIED:20250905T094003Z
LOCATION:Wuhan\, China
URL:https://www.uni-marburg.de/de/international/news-international/termine
 /2025/2025-application-deadline-hust-international-summer-school-on-chines
 e-language-metaverse-100-english-speaking-program
END:VEVENT
END:VCALENDAR
