BEGIN:VCALENDAR
VERSION:2.0
PRODID:-//Plone.org//NONSGML plone.app.event//EN
X-WR-TIMEZONE:Europe/Berlin
BEGIN:VEVENT
SUMMARY:Online Seminar: House Hunting in Marburg
DTSTART;TZID=Europe/Berlin:20250214T120000
DTEND;TZID=Europe/Berlin:20250214T133000
DTSTAMP:20260421T110841Z
UID:fe492d986b5846399dd9262379e6e353@www.uni-marburg.de
CREATED:20230207T184955Z
DESCRIPTION:https://www.uni-marburg.de/de/international/news-international
 /termine/2025/accomodation-februar\n
LAST-MODIFIED:20250905T093953Z
LOCATION:https://webconf.hrz.uni-marburg.de/n/rooms/tme-pbk-9co-wrt/join
URL:https://www.uni-marburg.de/de/international/news-international/termine
 /2025/accomodation-februar
END:VEVENT
BEGIN:VTIMEZONE
TZID:Europe/Berlin
X-LIC-LOCATION:Europe/Berlin
BEGIN:STANDARD
DTSTART:20241027T020000
TZNAME:CET
TZOFFSETFROM:+0200
TZOFFSETTO:+0100
END:STANDARD
END:VTIMEZONE
END:VCALENDAR
