BEGIN:VCALENDAR
VERSION:2.0
PRODID:-//Plone.org//NONSGML plone.app.event//EN
X-WR-TIMEZONE:Europe/Berlin
BEGIN:VEVENT
SUMMARY:Online Seminar: House Hunting in Marburg
DTSTART;TZID=Europe/Berlin:20250730T150000
DTEND;TZID=Europe/Berlin:20250730T170000
DTSTAMP:20260421T083349Z
UID:5efd53745ce0421fb7bebe2f7e29cead@www.uni-marburg.de
CREATED:20230207T184955Z
DESCRIPTION:https://www.uni-marburg.de/de/international/news-international
 /termine/2025/accomodation-juli\n
LAST-MODIFIED:20250905T095022Z
LOCATION:https://webconf.hrz.uni-marburg.de/n/rooms/tme-pbk-9co-wrt/join
URL:https://www.uni-marburg.de/de/international/news-international/termine
 /2025/accomodation-juli
END:VEVENT
BEGIN:VTIMEZONE
TZID:Europe/Berlin
X-LIC-LOCATION:Europe/Berlin
BEGIN:DAYLIGHT
DTSTART:20250330T030000
TZNAME:CEST
TZOFFSETFROM:+0100
TZOFFSETTO:+0200
END:DAYLIGHT
END:VTIMEZONE
END:VCALENDAR
