BEGIN:VCALENDAR
VERSION:2.0
PRODID:-//Plone.org//NONSGML plone.app.event//EN
X-WR-TIMEZONE:Europe/Berlin
BEGIN:VEVENT
SUMMARY:Alumni-Talk: Mit dem Uni-Abschluss in die Kreisverwaltung
DTSTART;TZID=Europe/Berlin:20251121T160000
DTEND;TZID=Europe/Berlin:20251121T170000
DTSTAMP:20260424T062416Z
UID:1481d2c9bf814d3f9bb40d1cbca7af92@www.uni-marburg.de
CATEGORIES:()
CREATED:20251009T053037Z
DESCRIPTION:https://www.uni-marburg.de/de/international/news-international
 /termine/2025/alumni-talk-kreisverwaltung\nIn der Reihe "Ways to Work - Al
 umni-Talks" berichten ehemalige internationale Absolvent*innen der Philipp
 s-Universität von ihrem Weg aus dem Ausland über ihr Studium bzw. ihre P
 romotion bis in das Berufsleben in Deutschland. Erfahren Sie\, wie bei and
 eren dieser Weg verlaufen ist und nehmen Sie Tipps und Tricks für Ihren e
 igenen weiteren Werdegang mit!
LAST-MODIFIED:20251014T075627Z
LOCATION:Online über BigBlueButton
URL:https://www.uni-marburg.de/de/international/news-international/termine
 /2025/alumni-talk-kreisverwaltung
END:VEVENT
BEGIN:VTIMEZONE
TZID:Europe/Berlin
X-LIC-LOCATION:Europe/Berlin
BEGIN:STANDARD
DTSTART:20251026T020000
TZNAME:CET
TZOFFSETFROM:+0200
TZOFFSETTO:+0100
END:STANDARD
END:VTIMEZONE
END:VCALENDAR
