BEGIN:VCALENDAR
VERSION:2.0
PRODID:-//Plone.org//NONSGML plone.app.event//EN
X-WR-TIMEZONE:Europe/Berlin
BEGIN:VEVENT
SUMMARY:Workshop: Arbeitswelt und Arbeitskultur in Deutschland: Was intern
 ationale Studierende wissen müssen
DTSTART;TZID=Europe/Berlin:20250711T100000
DTEND;TZID=Europe/Berlin:20250711T140000
DTSTAMP:20260424T112754Z
UID:dbae196eee934c5f8394aa83a30d0e74@www.uni-marburg.de
CREATED:20250306T123836Z
DESCRIPTION:https://www.uni-marburg.de/de/international/news-international
 /termine/2025/arbeitswelt-und-arbeitskultur\nWorkshop für internationale 
 Degree Seeker
LAST-MODIFIED:20250905T093950Z
LOCATION:Deutschhausstraße 11+13\, 35037 Marburg\, Raum +01.0010
URL:https://www.uni-marburg.de/de/international/news-international/termine
 /2025/arbeitswelt-und-arbeitskultur
END:VEVENT
BEGIN:VTIMEZONE
TZID:Europe/Berlin
X-LIC-LOCATION:Europe/Berlin
BEGIN:DAYLIGHT
DTSTART:20250330T030000
TZNAME:CEST
TZOFFSETFROM:+0100
TZOFFSETTO:+0200
END:DAYLIGHT
END:VTIMEZONE
END:VCALENDAR
