BEGIN:VCALENDAR
VERSION:2.0
PRODID:-//Plone.org//NONSGML plone.app.event//EN
X-WR-TIMEZONE:Europe/Berlin
BEGIN:VEVENT
SUMMARY:Auftaktveranstaltung: eMarMento WS 25/26
DTSTART;TZID=Europe/Berlin:20251023T170000
DTSTAMP:20260425T002315Z
UID:4906023a0b1a44ecb8703be5253f4e4f@www.uni-marburg.de
CATEGORIES:()
CREATED:20251022T165349Z
DESCRIPTION:https://www.uni-marburg.de/de/international/news-international
 /termine/2025/auftaktveranstaltung-emarmento-ws-25-26\n
LAST-MODIFIED:20251022T165536Z
LOCATION:marmento@uni-marburg.de
URL:https://www.uni-marburg.de/de/international/news-international/termine
 /2025/auftaktveranstaltung-emarmento-ws-25-26
END:VEVENT
BEGIN:VTIMEZONE
TZID:Europe/Berlin
X-LIC-LOCATION:Europe/Berlin
BEGIN:DAYLIGHT
DTSTART:20250330T030000
TZNAME:CEST
TZOFFSETFROM:+0100
TZOFFSETTO:+0200
END:DAYLIGHT
END:VTIMEZONE
END:VCALENDAR
