BEGIN:VCALENDAR
VERSION:2.0
PRODID:-//Plone.org//NONSGML plone.app.event//EN
X-WR-TIMEZONE:Europe/Berlin
BEGIN:VEVENT
SUMMARY:Workshop: Business Deutsch
DTSTART;TZID=Europe/Berlin:20251107T100000
DTEND;TZID=Europe/Berlin:20251107T140000
DTSTAMP:20260424T143208Z
UID:63868d6bd186444e806627b8da37d55a@www.uni-marburg.de
CREATED:20250827T142341Z
DESCRIPTION:https://www.uni-marburg.de/de/international/news-international
 /termine/2025/business-deutsch-1\nWorkshop für internationale Studierende
  (Degree Seeker\, keine Austusch-Studierende)
LAST-MODIFIED:20250905T095031Z
LOCATION:Deutschhausstr. 3\, 35037 Marburg\, Seminarraum 102 (+1/1020)
URL:https://www.uni-marburg.de/de/international/news-international/termine
 /2025/business-deutsch-1
END:VEVENT
BEGIN:VTIMEZONE
TZID:Europe/Berlin
X-LIC-LOCATION:Europe/Berlin
BEGIN:STANDARD
DTSTART:20251026T020000
TZNAME:CET
TZOFFSETFROM:+0200
TZOFFSETTO:+0100
END:STANDARD
END:VTIMEZONE
END:VCALENDAR
