BEGIN:VCALENDAR
VERSION:2.0
PRODID:-//Plone.org//NONSGML plone.app.event//EN
X-WR-TIMEZONE:Europe/Berlin
BEGIN:VEVENT
SUMMARY:Business Deutsch
DTSTART;TZID=Europe/Berlin:20250516T100000
DTEND;TZID=Europe/Berlin:20250516T140000
DTSTAMP:20260423T174016Z
UID:4fb8b52c532d4457bfab99c4edd369fe@www.uni-marburg.de
CREATED:20250306T125119Z
DESCRIPTION:https://www.uni-marburg.de/de/international/news-international
 /termine/2025/business-deutsch\nWorkshop für internationale Degree Seeker
LAST-MODIFIED:20250905T093958Z
LOCATION:Deutschhausstraße 11+13\, 35037 Marburg\, Seminarraum 01.0010
URL:https://www.uni-marburg.de/de/international/news-international/termine
 /2025/business-deutsch
END:VEVENT
BEGIN:VTIMEZONE
TZID:Europe/Berlin
X-LIC-LOCATION:Europe/Berlin
BEGIN:DAYLIGHT
DTSTART:20250330T030000
TZNAME:CEST
TZOFFSETFROM:+0100
TZOFFSETTO:+0200
END:DAYLIGHT
END:VTIMEZONE
END:VCALENDAR
