BEGIN:VCALENDAR
VERSION:2.0
PRODID:-//Plone.org//NONSGML plone.app.event//EN
X-WR-TIMEZONE:Europe/Berlin
BEGIN:VEVENT
SUMMARY:Workshop: Business Knigge – Gute Umgangsformen beweisen
DTSTART;TZID=Europe/Berlin:20250527T150000
DTEND;TZID=Europe/Berlin:20250527T170000
DTSTAMP:20260422T004344Z
UID:e2b28eaaa43d42afb0423326c5ab10d9@www.uni-marburg.de
CREATED:20250306T142224Z
DESCRIPTION:https://www.uni-marburg.de/de/international/news-international
 /termine/2025/business-knigge\nWorkshop für internationale Degree Seeker
LAST-MODIFIED:20250905T094011Z
LOCATION:Online (Link wird nach Anmeldung zur Verfügung gestellt)
URL:https://www.uni-marburg.de/de/international/news-international/termine
 /2025/business-knigge
END:VEVENT
BEGIN:VTIMEZONE
TZID:Europe/Berlin
X-LIC-LOCATION:Europe/Berlin
BEGIN:DAYLIGHT
DTSTART:20250330T030000
TZNAME:CEST
TZOFFSETFROM:+0100
TZOFFSETTO:+0200
END:DAYLIGHT
END:VTIMEZONE
END:VCALENDAR
