BEGIN:VCALENDAR
VERSION:2.0
PRODID:-//Plone.org//NONSGML plone.app.event//EN
X-WR-TIMEZONE:Europe/Berlin
BEGIN:VEVENT
SUMMARY:Denk- und Arbeitsweisen verstehen: Erfolgreiche Kooperationen zwis
 chen Deutschland und China
DTSTART;TZID=Europe/Berlin:20251009T100000
DTEND;TZID=Europe/Berlin:20251009T110000
DTSTAMP:20260425T232229Z
UID:cd938a910c5646d5958485a3cd13f252@www.uni-marburg.de
CREATED:20250915T124541Z
DESCRIPTION:https://www.uni-marburg.de/de/international/news-international
 /termine/2025/denk-und-arbeitsweisen-verstehen-erfolgreiche-kooperationen-
 zwischen-deutschland-und-china\n
LAST-MODIFIED:20250915T124834Z
LOCATION:Online
URL:https://www.uni-marburg.de/de/international/news-international/termine
 /2025/denk-und-arbeitsweisen-verstehen-erfolgreiche-kooperationen-zwischen
 -deutschland-und-china
END:VEVENT
BEGIN:VTIMEZONE
TZID:Europe/Berlin
X-LIC-LOCATION:Europe/Berlin
BEGIN:DAYLIGHT
DTSTART:20250330T030000
TZNAME:CEST
TZOFFSETFROM:+0100
TZOFFSETTO:+0200
END:DAYLIGHT
END:VTIMEZONE
END:VCALENDAR
