BEGIN:VCALENDAR
VERSION:2.0
PRODID:-//Plone.org//NONSGML plone.app.event//EN
X-WR-TIMEZONE:Europe/Berlin
BEGIN:VEVENT
SUMMARY:Online Seminar: Dorm Life 101
DTSTART;TZID=Europe/Berlin:20250813T150000
DTEND;TZID=Europe/Berlin:20250813T170000
DTSTAMP:20260421T173006Z
UID:285f336a98f4471d8ff146a1b7004993@www.uni-marburg.de
CREATED:20230207T184955Z
DESCRIPTION:https://www.uni-marburg.de/de/international/news-international
 /termine/2025/dormitory-information-august25-1\n
LAST-MODIFIED:20250905T095029Z
LOCATION:https://webconf.hrz.uni-marburg.de/n/rooms/tme-pbk-9co-wrt/join
URL:https://www.uni-marburg.de/de/international/news-international/termine
 /2025/dormitory-information-august25-1
END:VEVENT
BEGIN:VTIMEZONE
TZID:Europe/Berlin
X-LIC-LOCATION:Europe/Berlin
BEGIN:DAYLIGHT
DTSTART:20250330T030000
TZNAME:CEST
TZOFFSETFROM:+0100
TZOFFSETTO:+0200
END:DAYLIGHT
END:VTIMEZONE
END:VCALENDAR
