BEGIN:VCALENDAR
VERSION:2.0
PRODID:-//Plone.org//NONSGML plone.app.event//EN
X-WR-TIMEZONE:Europe/Berlin
BEGIN:VEVENT
SUMMARY:Online Seminar: Dorm Life 101
DTSTART;TZID=Europe/Berlin:20250909T100000
DTEND;TZID=Europe/Berlin:20250909T120000
DTSTAMP:20260421T061229Z
UID:ef46987dc55c4a4ba60243618809bee4@www.uni-marburg.de
CREATED:20230207T184955Z
DESCRIPTION:https://www.uni-marburg.de/de/international/news-international
 /termine/2025/dormitory-information-september25\n
LAST-MODIFIED:20250905T095026Z
LOCATION:https://webconf.hrz.uni-marburg.de/n/rooms/tme-pbk-9co-wrt/join
URL:https://www.uni-marburg.de/de/international/news-international/termine
 /2025/dormitory-information-september25
END:VEVENT
BEGIN:VTIMEZONE
TZID:Europe/Berlin
X-LIC-LOCATION:Europe/Berlin
BEGIN:DAYLIGHT
DTSTART:20250330T030000
TZNAME:CEST
TZOFFSETFROM:+0100
TZOFFSETTO:+0200
END:DAYLIGHT
END:VTIMEZONE
END:VCALENDAR
