BEGIN:VCALENDAR
VERSION:2.0
PRODID:-//Plone.org//NONSGML plone.app.event//EN
X-WR-TIMEZONE:Europe/Berlin
BEGIN:VEVENT
SUMMARY:Erasmus+ Bites 2025: Ein Jahr\, zwei Mobilitäten – zweisemestri
 ge Aufenthalte / One year\, two mobilities - two-semester stays
DTSTART;TZID=Europe/Berlin:20250331T190000
DTEND;TZID=Europe/Berlin:20250331T200000
DTSTAMP:20260425T224256Z
UID:c836b2266ef5414fa628b91416eb7aa6@www.uni-marburg.de
CREATED:20250313T104442Z
DESCRIPTION:https://www.uni-marburg.de/de/international/news-international
 /termine/2025/erasmus-bites-2025-ein-jahr-zwei-mobilitaeten-zweisemestrige
 -aufenthalte-one-year-two-mobilities-two-semester-stays\n
LAST-MODIFIED:20250905T093957Z
LOCATION:https://uni-marburg.de/VC3uN9
URL:https://www.uni-marburg.de/de/international/news-international/termine
 /2025/erasmus-bites-2025-ein-jahr-zwei-mobilitaeten-zweisemestrige-aufenth
 alte-one-year-two-mobilities-two-semester-stays
END:VEVENT
BEGIN:VTIMEZONE
TZID:Europe/Berlin
X-LIC-LOCATION:Europe/Berlin
BEGIN:DAYLIGHT
DTSTART:20250330T030000
TZNAME:CEST
TZOFFSETFROM:+0100
TZOFFSETTO:+0200
END:DAYLIGHT
END:VTIMEZONE
END:VCALENDAR
