BEGIN:VCALENDAR
VERSION:2.0
PRODID:-//Plone.org//NONSGML plone.app.event//EN
X-WR-TIMEZONE:Europe/Berlin
BEGIN:VEVENT
SUMMARY:Erasmus+ Bites 2025: Offene Sprechstunde I / Open consultation hou
 rs I
DTSTART;TZID=Europe/Berlin:20250407T190000
DTEND;TZID=Europe/Berlin:20250407T200000
DTSTAMP:20260424T134625Z
UID:69b7cbd4f972423ea206d633503b1d57@www.uni-marburg.de
CREATED:20250313T104733Z
DESCRIPTION:https://www.uni-marburg.de/de/international/news-international
 /termine/2025/erasmus-bites-2025-offene-sprechstunde-i-open-consultation-h
 ours-i\n
LAST-MODIFIED:20250905T093958Z
LOCATION:https://uni-marburg.de/VC3uN9
URL:https://www.uni-marburg.de/de/international/news-international/termine
 /2025/erasmus-bites-2025-offene-sprechstunde-i-open-consultation-hours-i
END:VEVENT
BEGIN:VTIMEZONE
TZID:Europe/Berlin
X-LIC-LOCATION:Europe/Berlin
BEGIN:DAYLIGHT
DTSTART:20250330T030000
TZNAME:CEST
TZOFFSETFROM:+0100
TZOFFSETTO:+0200
END:DAYLIGHT
END:VTIMEZONE
END:VCALENDAR
