BEGIN:VCALENDAR
VERSION:2.0
PRODID:-//Plone.org//NONSGML plone.app.event//EN
X-WR-TIMEZONE:Europe/Berlin
BEGIN:VEVENT
SUMMARY:Fachmesse W3+Fair: Messebesuch inkl. Führung für internationale 
 Studierende
DTSTART;TZID=Europe/Berlin:20250319T130000
DTEND;TZID=Europe/Berlin:20250319T170000
DTSTAMP:20260425T190356Z
UID:36fc2aab72cb446898b0a09b423bc5d2@www.uni-marburg.de
CREATED:20250213T153955Z
DESCRIPTION:https://www.uni-marburg.de/de/international/news-international
 /termine/2025/fachmesse-w3-fair-messebesuch-inkl-fuehrung-fuer-internation
 ale-studierende\n
LAST-MODIFIED:20250905T094019Z
LOCATION:Buderus Arena Wetzlar\, Wolfgang-Kühle-Straße 1\, Wetzlar
URL:https://www.uni-marburg.de/de/international/news-international/termine
 /2025/fachmesse-w3-fair-messebesuch-inkl-fuehrung-fuer-internationale-stud
 ierende
END:VEVENT
BEGIN:VTIMEZONE
TZID:Europe/Berlin
X-LIC-LOCATION:Europe/Berlin
BEGIN:STANDARD
DTSTART:20241027T020000
TZNAME:CET
TZOFFSETFROM:+0200
TZOFFSETTO:+0100
END:STANDARD
END:VTIMEZONE
END:VCALENDAR
