BEGIN:VCALENDAR
VERSION:2.0
PRODID:-//Plone.org//NONSGML plone.app.event//EN
X-WR-TIMEZONE:Europe/Berlin
BEGIN:VEVENT
SUMMARY:Fachmesse W3+ Fair: Wie bereite ich mich vor? Online-Vortrag
DTSTART;TZID=Europe/Berlin:20250312T160000
DTEND;TZID=Europe/Berlin:20250312T170000
DTSTAMP:20260425T001411Z
UID:7ed8d668cd3f46e2a9737a7a83943ef0@www.uni-marburg.de
CREATED:20250213T153458Z
DESCRIPTION:https://www.uni-marburg.de/de/international/news-international
 /termine/2025/fachmesse-w3-fair-wie-bereite-ich-mich-vor-online-vortrag\n
LAST-MODIFIED:20250905T094001Z
LOCATION:Online (Link wird nach Anmeldung zur Verfügung gestellt)
URL:https://www.uni-marburg.de/de/international/news-international/termine
 /2025/fachmesse-w3-fair-wie-bereite-ich-mich-vor-online-vortrag
END:VEVENT
BEGIN:VTIMEZONE
TZID:Europe/Berlin
X-LIC-LOCATION:Europe/Berlin
BEGIN:STANDARD
DTSTART:20241027T020000
TZNAME:CET
TZOFFSETFROM:+0200
TZOFFSETTO:+0100
END:STANDARD
END:VTIMEZONE
END:VCALENDAR
