BEGIN:VCALENDAR
VERSION:2.0
PRODID:-//Plone.org//NONSGML plone.app.event//EN
X-WR-TIMEZONE:Europe/Berlin
BEGIN:VEVENT
SUMMARY:Fit for Germany! An Intercultural Awareness Training
DTSTART;TZID=Europe/Berlin:20250918T130000
DTEND;TZID=Europe/Berlin:20250918T170000
DTSTAMP:20260424T154149Z
UID:429d5f18c0b04be18b064e909fff32bb@www.uni-marburg.de
CREATED:20250205T150910Z
DESCRIPTION:https://www.uni-marburg.de/de/international/news-international
 /termine/2025/fit-for-germany-an-intercultural-awareness-training-sep25\n
LAST-MODIFIED:20250905T095033Z
LOCATION:online (Zoom)
URL:https://www.uni-marburg.de/de/international/news-international/termine
 /2025/fit-for-germany-an-intercultural-awareness-training-sep25
END:VEVENT
BEGIN:VTIMEZONE
TZID:Europe/Berlin
X-LIC-LOCATION:Europe/Berlin
BEGIN:DAYLIGHT
DTSTART:20250330T030000
TZNAME:CEST
TZOFFSETFROM:+0100
TZOFFSETTO:+0200
END:DAYLIGHT
END:VTIMEZONE
END:VCALENDAR
