BEGIN:VCALENDAR
VERSION:2.0
PRODID:-//Plone.org//NONSGML plone.app.event//EN
X-WR-TIMEZONE:Europe/Berlin
BEGIN:VEVENT
SUMMARY:Fit für Deutschland! Ein interkulturelles Sensibilisierungstraini
 ng
DTSTART;TZID=Europe/Berlin:20250327T130000
DTEND;TZID=Europe/Berlin:20250327T170000
DTSTAMP:20260425T154821Z
UID:519d33b7e1ff45ccbbbc0f7d16897d66@www.uni-marburg.de
CREATED:20250128T093443Z
DESCRIPTION:https://www.uni-marburg.de/de/international/news-international
 /termine/2025/fit-fuer-deutschland-ein-interkulturelles-sensibilisierungst
 raining-3\n
LAST-MODIFIED:20250905T093949Z
LOCATION:Online-Workshop (B2 Sprachniveau als Voraussetzung)
URL:https://www.uni-marburg.de/de/international/news-international/termine
 /2025/fit-fuer-deutschland-ein-interkulturelles-sensibilisierungstraining-
 3
END:VEVENT
BEGIN:VTIMEZONE
TZID:Europe/Berlin
X-LIC-LOCATION:Europe/Berlin
BEGIN:STANDARD
DTSTART:20241027T020000
TZNAME:CET
TZOFFSETFROM:+0200
TZOFFSETTO:+0100
END:STANDARD
END:VTIMEZONE
END:VCALENDAR
