BEGIN:VCALENDAR
VERSION:2.0
PRODID:-//Plone.org//NONSGML plone.app.event//EN
X-WR-TIMEZONE:Europe/Berlin
BEGIN:VEVENT
SUMMARY:Fit für Deutschland! Ein interkulturelles Sensibilisierungstraini
 ng
DTSTART;TZID=Europe/Berlin:20250912T130000
DTEND;TZID=Europe/Berlin:20250912T170000
DTSTAMP:20260425T201644Z
UID:226bdd45905449fa9535e7c269009cff@www.uni-marburg.de
CREATED:20250128T093443Z
DESCRIPTION:https://www.uni-marburg.de/de/international/news-international
 /termine/2025/fit-fuer-deutschland-ein-interkulturelles-sensibilisierungst
 raining-sept25\n
LAST-MODIFIED:20250905T095020Z
LOCATION:online (Zoom)
URL:https://www.uni-marburg.de/de/international/news-international/termine
 /2025/fit-fuer-deutschland-ein-interkulturelles-sensibilisierungstraining-
 sept25
END:VEVENT
BEGIN:VTIMEZONE
TZID:Europe/Berlin
X-LIC-LOCATION:Europe/Berlin
BEGIN:DAYLIGHT
DTSTART:20250330T030000
TZNAME:CEST
TZOFFSETFROM:+0100
TZOFFSETTO:+0200
END:DAYLIGHT
END:VTIMEZONE
END:VCALENDAR
