BEGIN:VCALENDAR
VERSION:2.0
PRODID:-//Plone.org//NONSGML plone.app.event//EN
X-WR-TIMEZONE:Europe/Berlin
BEGIN:VEVENT
SUMMARY:Workshop: Gesprächstraining für internationale Studierende – v
 erschiedene Situationen an der Universität in der Fremdsprache Deutsch me
 istern!
DTSTART;TZID=Europe/Berlin:20250523T100000
DTEND;TZID=Europe/Berlin:20250523T140000
DTSTAMP:20260421T083355Z
UID:72db170103b840b19ca0400fd93be6a0@www.uni-marburg.de
CREATED:20250306T123131Z
DESCRIPTION:https://www.uni-marburg.de/de/international/news-international
 /termine/2025/gespraechstraining\nWorkshop für internationale Degree Seek
 er
LAST-MODIFIED:20250905T094003Z
LOCATION:Deutschhausstraße 11+13\, 35037 Marburg\, Raum +01.0010
URL:https://www.uni-marburg.de/de/international/news-international/termine
 /2025/gespraechstraining
END:VEVENT
BEGIN:VTIMEZONE
TZID:Europe/Berlin
X-LIC-LOCATION:Europe/Berlin
BEGIN:DAYLIGHT
DTSTART:20250330T030000
TZNAME:CEST
TZOFFSETFROM:+0100
TZOFFSETTO:+0200
END:DAYLIGHT
END:VTIMEZONE
END:VCALENDAR
