BEGIN:VCALENDAR
VERSION:2.0
PRODID:-//Plone.org//NONSGML plone.app.event//EN
X-WR-TIMEZONE:Europe/Berlin
BEGIN:VEVENT
SUMMARY:Praxiserkundung: Haus der Jugend Marburg
DTSTART;TZID=Europe/Berlin:20251114T100000
DTEND;TZID=Europe/Berlin:20251114T113000
DTSTAMP:20260422T051655Z
UID:9dce18cd386e4330af8e830c736a0e34@www.uni-marburg.de
CREATED:20250411T080404Z
DESCRIPTION:https://www.uni-marburg.de/de/international/news-international
 /termine/2025/haus-der-jugend\nExkursion für internationale Studierende (
 Degree Seeker)
LAST-MODIFIED:20250905T094015Z
LOCATION:Haus der Jugend\, Frankfurter Straße 21\, 35037 Marburg
URL:https://www.uni-marburg.de/de/international/news-international/termine
 /2025/haus-der-jugend
END:VEVENT
BEGIN:VTIMEZONE
TZID:Europe/Berlin
X-LIC-LOCATION:Europe/Berlin
BEGIN:STANDARD
DTSTART:20251026T020000
TZNAME:CET
TZOFFSETFROM:+0200
TZOFFSETTO:+0100
END:STANDARD
END:VTIMEZONE
END:VCALENDAR
