BEGIN:VCALENDAR
VERSION:2.0
PRODID:-//Plone.org//NONSGML plone.app.event//EN
X-WR-TIMEZONE:Europe/Berlin
BEGIN:VEVENT
SUMMARY:Informationsveranstaltung: Aufenthalt in der VR China für Studier
 ende
DTSTART;TZID=Europe/Berlin:20250410T150000
DTEND;TZID=Europe/Berlin:20250410T163000
DTSTAMP:20260425T225219Z
UID:ef6eb46beb6a42708f376cd401f2b628@www.uni-marburg.de
CREATED:20250320T125411Z
DESCRIPTION:https://www.uni-marburg.de/de/international/news-international
 /termine/2025/informationsveranstaltung-aufenthalt-in-der-vr-china-fuer-st
 udierende\nStudieren in China – aber wie? Welche Apps sind unverzichtbar
 ? Wie navigiert man im Alltag ohne Chinesisch-Kenntnisse?
LAST-MODIFIED:20250905T094016Z
LOCATION:Deutschhausstr. 11+13\, Raum 01.0010
URL:https://www.uni-marburg.de/de/international/news-international/termine
 /2025/informationsveranstaltung-aufenthalt-in-der-vr-china-fuer-studierend
 e
END:VEVENT
BEGIN:VTIMEZONE
TZID:Europe/Berlin
X-LIC-LOCATION:Europe/Berlin
BEGIN:DAYLIGHT
DTSTART:20250330T030000
TZNAME:CEST
TZOFFSETFROM:+0100
TZOFFSETTO:+0200
END:DAYLIGHT
END:VTIMEZONE
END:VCALENDAR
