BEGIN:VCALENDAR
VERSION:2.0
PRODID:-//Plone.org//NONSGML plone.app.event//EN
X-WR-TIMEZONE:Europe/Berlin
BEGIN:VEVENT
SUMMARY:Infosessions Übersee Programme
DTSTART;TZID=Europe/Berlin:20250429T180000
DTEND;TZID=Europe/Berlin:20250429T190000
DTSTAMP:20260421T083352Z
UID:d102d13df44c420f944849ec7dccd52d@www.uni-marburg.de
RRULE:FREQ=DAILY;COUNT=3
RDATE;TZID=Europe/Berlin:20250514T180000,20250527T180000
EXDATE;TZID=Europe/Berlin:20250430T180000,20250501T180000,20250502T180000,
 20250503T180000,20250504T180000,20250505T180000
ATTENDEE;CN="Jennifer Rödel";ROLE=REQ-PARTICIPANT:Jennifer Rödel
CREATED:20250401T102805Z
DESCRIPTION:https://www.uni-marburg.de/de/international/news-international
 /termine/2025/infosessions-uebersee-programme\n
LAST-MODIFIED:20250905T094004Z
LOCATION:https://webconf.hrz.uni-marburg.de/n/rooms/efm-i1z-hqm-fpk/join
URL:https://www.uni-marburg.de/de/international/news-international/termine
 /2025/infosessions-uebersee-programme
END:VEVENT
BEGIN:VTIMEZONE
TZID:Europe/Berlin
X-LIC-LOCATION:Europe/Berlin
BEGIN:DAYLIGHT
DTSTART:20250330T030000
TZNAME:CEST
TZOFFSETFROM:+0100
TZOFFSETTO:+0200
END:DAYLIGHT
END:VTIMEZONE
END:VCALENDAR
