BEGIN:VCALENDAR
VERSION:2.0
PRODID:-//Plone.org//NONSGML plone.app.event//EN
X-WR-TIMEZONE:Europe/Berlin
BEGIN:VEVENT
SUMMARY:Infoveranstaltung: Aufenthalt in der VR China für Studierende
DTSTART;TZID=Europe/Berlin:20250602T093000
DTEND;TZID=Europe/Berlin:20250602T110000
DTSTAMP:20260425T185759Z
UID:bb76accf2c4145b2a5acd34efa2a35eb@www.uni-marburg.de
CREATED:20250523T134639Z
DESCRIPTION:https://www.uni-marburg.de/de/international/news-international
 /termine/2025/infoveranstaltung-aufenthalt-in-der-vr-china-fuer-studierend
 e\n
LAST-MODIFIED:20250905T095017Z
LOCATION:Online
URL:https://www.uni-marburg.de/de/international/news-international/termine
 /2025/infoveranstaltung-aufenthalt-in-der-vr-china-fuer-studierende
END:VEVENT
BEGIN:VTIMEZONE
TZID:Europe/Berlin
X-LIC-LOCATION:Europe/Berlin
BEGIN:DAYLIGHT
DTSTART:20250330T030000
TZNAME:CEST
TZOFFSETFROM:+0100
TZOFFSETTO:+0200
END:DAYLIGHT
END:VTIMEZONE
END:VCALENDAR
