BEGIN:VCALENDAR
VERSION:2.0
PRODID:-//Plone.org//NONSGML plone.app.event//EN
X-WR-TIMEZONE:Europe/Berlin
BEGIN:VEVENT
SUMMARY:Internationale Studierende als Fachkräfte von morgen - was Untern
 ehmen wissen müssen
DTSTART;TZID=Europe/Berlin:20250923T100000
DTEND;TZID=Europe/Berlin:20250923T113000
DTSTAMP:20260421T215935Z
UID:69ba45b26e5144cabdbbe746958b8d77@www.uni-marburg.de
ATTENDEE;CN="Julia Kislat (Philipps-Universität Marburg)";ROLE=REQ-PARTIC
 IPANT:Julia Kislat (Philipps-Universität Marburg)
ATTENDEE;CN="Anne Mittmann (Technische Hochschule Mittelhessen)";ROLE=REQ-
 PARTICIPANT:Anne Mittmann (Technische Hochschule Mittelhessen)
CREATED:20250825T074943Z
DESCRIPTION:https://www.uni-marburg.de/de/international/news-international
 /termine/2025/inqa-aktionswochen\nVortrag im Rahmen der INQA-Ak­ti­ons­
 wo­chen „Men­schen in Ar­beit – Fach­kräf­te in den Re­gio­nen
 “
LAST-MODIFIED:20250905T095014Z
LOCATION:Online via Zoom
URL:https://www.uni-marburg.de/de/international/news-international/termine
 /2025/inqa-aktionswochen
END:VEVENT
BEGIN:VTIMEZONE
TZID:Europe/Berlin
X-LIC-LOCATION:Europe/Berlin
BEGIN:DAYLIGHT
DTSTART:20250330T030000
TZNAME:CEST
TZOFFSETFROM:+0100
TZOFFSETTO:+0200
END:DAYLIGHT
END:VTIMEZONE
END:VCALENDAR
