BEGIN:VCALENDAR
VERSION:2.0
PRODID:-//Plone.org//NONSGML plone.app.event//EN
X-WR-TIMEZONE:Europe/Berlin
BEGIN:VEVENT
SUMMARY:How to make the most of your internship
DTSTART;TZID=Europe/Berlin:20250506T100000
DTEND;TZID=Europe/Berlin:20250506T130000
DTSTAMP:20260422T044319Z
UID:5c1bc2f7161a46b098946697027897ba@www.uni-marburg.de
CREATED:20250304T124859Z
DESCRIPTION:https://www.uni-marburg.de/de/international/news-international
 /termine/2025/internship\nWorkshop for degree-seeking international studen
 ts
LAST-MODIFIED:20250905T094020Z
LOCATION:Online via BigBlueButton (Link will be sent after registration)
URL:https://www.uni-marburg.de/de/international/news-international/termine
 /2025/internship
END:VEVENT
BEGIN:VTIMEZONE
TZID:Europe/Berlin
X-LIC-LOCATION:Europe/Berlin
BEGIN:DAYLIGHT
DTSTART:20250330T030000
TZNAME:CEST
TZOFFSETFROM:+0100
TZOFFSETTO:+0200
END:DAYLIGHT
END:VTIMEZONE
END:VCALENDAR
