BEGIN:VCALENDAR
VERSION:2.0
PRODID:-//Plone.org//NONSGML plone.app.event//EN
X-WR-TIMEZONE:Europe/Berlin
BEGIN:VEVENT
SUMMARY:Workshop: Gut vorbereitet zur Karrieremesse
DTSTART;TZID=Europe/Berlin:20250508T100000
DTEND;TZID=Europe/Berlin:20250508T120000
DTSTAMP:20260423T223202Z
UID:cfda899d7e314878a1bfb01139e7b406@www.uni-marburg.de
CREATED:20250306T125855Z
DESCRIPTION:https://www.uni-marburg.de/de/international/news-international
 /termine/2025/karrieremesse-vorbereitung\nWorkshop für internationale Deg
 ree Seeker
LAST-MODIFIED:20250905T094010Z
LOCATION:Online via BigBlueButton (Link wird nach Anmeldung zur Verfügung
  gestellt)
URL:https://www.uni-marburg.de/de/international/news-international/termine
 /2025/karrieremesse-vorbereitung
END:VEVENT
BEGIN:VTIMEZONE
TZID:Europe/Berlin
X-LIC-LOCATION:Europe/Berlin
BEGIN:DAYLIGHT
DTSTART:20250330T030000
TZNAME:CEST
TZOFFSETFROM:+0100
TZOFFSETTO:+0200
END:DAYLIGHT
END:VTIMEZONE
END:VCALENDAR
