BEGIN:VCALENDAR
VERSION:2.0
PRODID:-//Plone.org//NONSGML plone.app.event//EN
X-WR-TIMEZONE:Europe/Berlin
BEGIN:VEVENT
SUMMARY:Workshop: Learning to Learn: Discovering and Exploring (new) Learn
 ing Strategies
DTSTART;TZID=Europe/Berlin:20250624T140000
DTEND;TZID=Europe/Berlin:20250624T170000
DTSTAMP:20260422T163849Z
UID:c7ace39095b640be98742d760ee7a0f1@www.uni-marburg.de
CREATED:20250304T123953Z
DESCRIPTION:https://www.uni-marburg.de/de/international/news-international
 /termine/2025/learning-to-learn\nWorkshop for degree-seeking international
  students
LAST-MODIFIED:20250905T094014Z
LOCATION:Online via BigBlueButton (Link will be sent after registration)
URL:https://www.uni-marburg.de/de/international/news-international/termine
 /2025/learning-to-learn
END:VEVENT
BEGIN:VTIMEZONE
TZID:Europe/Berlin
X-LIC-LOCATION:Europe/Berlin
BEGIN:DAYLIGHT
DTSTART:20250330T030000
TZNAME:CEST
TZOFFSETFROM:+0100
TZOFFSETTO:+0200
END:DAYLIGHT
END:VTIMEZONE
END:VCALENDAR
