BEGIN:VCALENDAR
VERSION:2.0
PRODID:-//Plone.org//NONSGML plone.app.event//EN
X-WR-TIMEZONE:Europe/Berlin
BEGIN:VEVENT
SUMMARY:Messe "Karriere weltweit"
DTSTART;TZID=Europe/Berlin:20251203T100000
DTEND;TZID=Europe/Berlin:20251203T160000
DTSTAMP:20260421T231342Z
UID:896dc16877424207a96e1322d1751ce7@www.uni-marburg.de
CREATED:20250819T123736Z
DESCRIPTION:https://www.uni-marburg.de/de/international/news-international
 /termine/2025/messe-karriere-weltweit\nDer große Karrieretag der Justus-L
 iebig-Universität Gießen (JLU) und der Technischen Hochschule Mittelhess
 en (THM)
LAST-MODIFIED:20250905T095027Z
LOCATION:Kongresshalle Gießen\, Südanlage 3\, 35390 Gießen
URL:https://www.uni-marburg.de/de/international/news-international/termine
 /2025/messe-karriere-weltweit
END:VEVENT
BEGIN:VTIMEZONE
TZID:Europe/Berlin
X-LIC-LOCATION:Europe/Berlin
BEGIN:STANDARD
DTSTART:20251026T020000
TZNAME:CET
TZOFFSETFROM:+0200
TZOFFSETTO:+0100
END:STANDARD
END:VTIMEZONE
END:VCALENDAR
