BEGIN:VCALENDAR
VERSION:2.0
PRODID:-//Plone.org//NONSGML plone.app.event//EN
X-WR-TIMEZONE:Europe/Berlin
BEGIN:VEVENT
SUMMARY:Moral und Recht in den rechtsphilosophischen Traditionen Chinas un
 d Europas
DTSTART;TZID=Europe/Berlin:20251104T183000
DTEND;TZID=Europe/Berlin:20251104T203000
DTSTAMP:20260425T235050Z
UID:2ba0eb713afe4a67b169ebf3c674fc30@www.uni-marburg.de
CREATED:20251027T093846Z
DESCRIPTION:https://www.uni-marburg.de/de/international/news-international
 /termine/2025/moral-und-recht-in-den-rechtsphilosophischen-traditionen-chi
 nas-und-europas\n
LAST-MODIFIED:20251027T093901Z
LOCATION:Deutscher Sprachatlas der Universität Marburg\, Pilgrimstein 16\
 , 35032 Marburg
URL:https://www.uni-marburg.de/de/international/news-international/termine
 /2025/moral-und-recht-in-den-rechtsphilosophischen-traditionen-chinas-und-
 europas
END:VEVENT
BEGIN:VTIMEZONE
TZID:Europe/Berlin
X-LIC-LOCATION:Europe/Berlin
BEGIN:STANDARD
DTSTART:20251026T020000
TZNAME:CET
TZOFFSETFROM:+0200
TZOFFSETTO:+0100
END:STANDARD
END:VTIMEZONE
END:VCALENDAR
